BEGIN:VCALENDAR
VERSION:2.0
PRODID:-//pretix//pretix.eu//
BEGIN:VTIMEZONE
TZID:Europe/Berlin
BEGIN:STANDARD
DTSTART:20001029T040000
RRULE:FREQ=YEARLY;BYDAY=-1SU;BYMONTH=10
TZNAME:CET
TZOFFSETFROM:+0200
TZOFFSETTO:+0100
END:STANDARD
BEGIN:DAYLIGHT
DTSTART:20000326T030000
RRULE:FREQ=YEARLY;BYDAY=-1SU;BYMONTH=3
TZNAME:CEST
TZOFFSETFROM:+0100
TZOFFSETTO:+0200
END:DAYLIGHT
END:VTIMEZONE
BEGIN:VEVENT
UID:pretix-noz-kaiwiesinger-0@noz.ticketcenter.de
DTSTART;TZID=Europe/Berlin:20260425T200000
DTEND;TZID=Europe/Berlin:20260425T210000
DESCRIPTION:Tickets: https://noz.ticketcenter.de/kaiwiesinger/\nEinlass: 25
 .04.2026 19:00\nVeranstalter: Neue Osnabrücker Zeitung GmbH & Co. KG
DTSTAMP:20260423T233606Z
LOCATION:NOZ Medienzentrum\, Breiter Gang 10-16\, 49074 Osnabrück
SUMMARY:ABGESAGT - Kai Wiesinger - Lesung »Zurück zu ihr«
END:VEVENT
BEGIN:VEVENT
UID:pretix-noz-uniball-26-0@noz.ticketcenter.de
DTSTART;TZID=Europe/Berlin:20260605T193000
DTEND;TZID=Europe/Berlin:20260605T203000
DESCRIPTION:Tickets: https://noz.ticketcenter.de/uniball-26/\nEinlass: 05.0
 6.2026 19:30\nVeranstalter: Neue Osnabrücker Zeitung GmbH & Co. KG
DTSTAMP:20260423T233606Z
LOCATION:OsnabrückHalle\, Schlosswall 1-9\, 49074 Osnabrück
SUMMARY:Ball der Universität 2026
END:VEVENT
BEGIN:VEVENT
UID:pretix-noz-loriot-0@noz.ticketcenter.de
DTSTART;TZID=Europe/Berlin:20260620T200000
DTEND;TZID=Europe/Berlin:20260620T210000
DESCRIPTION:Tickets: https://noz.ticketcenter.de/loriot/\nEinlass: 20.06.20
 26 19:00\nVeranstalter: Neue Osnabrücker Zeitung GmbH & Co. KG
DTSTAMP:20260423T233606Z
LOCATION:NOZ Medienzentrum\, Breiter Gang 10-16\, 49074 Osnabrück
SUMMARY:Johann von Bülow liest “LORIOT – Der ganz offene Brief”
END:VEVENT
BEGIN:VEVENT
UID:pretix-noz-klauspeterwolf26-0@noz.ticketcenter.de
DTSTART;TZID=Europe/Berlin:20260622T200000
DTEND;TZID=Europe/Berlin:20260622T210000
DESCRIPTION:Tickets: https://noz.ticketcenter.de/klauspeterwolf26/\nEinlass
 : 22.06.2026 19:00\nVeranstalter: Neue Osnabrücker Zeitung GmbH & Co. KG
DTSTAMP:20260423T233606Z
LOCATION:NOZ Medienzentrum\, Breiter Gang 10-16\, 49074 Osnabrück
SUMMARY:Klaus-Peter Wolf: „Sommerfeldt Solo – Der Auftrag“
END:VEVENT
BEGIN:VEVENT
UID:pretix-noz-happyweekend-0@noz.ticketcenter.de
DTSTART;TZID=Europe/Berlin:20260910T200000
DTEND;TZID=Europe/Berlin:20260910T210000
DESCRIPTION:Tickets: https://noz.ticketcenter.de/happyweekend/\nEinlass: 10
 .09.2026 19:00\nVeranstalter: Neue Osnabrücker Zeitung GmbH & Co. KG
DTSTAMP:20260423T233606Z
LOCATION:NOZ Medienzentrum\, Breiter Gang 10-16\, 49074 Osnabrück
SUMMARY:Arno Strobel - Lesung aus "Happy Weekend"
END:VEVENT
BEGIN:VEVENT
UID:pretix-noz-svenstricker26-0@noz.ticketcenter.de
DTSTART;TZID=Europe/Berlin:20260925T200000
DTEND;TZID=Europe/Berlin:20260925T210000
DESCRIPTION:Tickets: https://noz.ticketcenter.de/svenstricker26/\nEinlass: 
 25.09.2026 19:00\nVeranstalter: Neue Osnabrücker Zeitung GmbH & Co. KG
DTSTAMP:20260423T233606Z
LOCATION:NOZ Medienzentrum\, Breiter Gang 10-16\, 49074 Osnabrück
SUMMARY:Sven Stricker - Lesung „Sörensen geht aufs Haus“
END:VEVENT
BEGIN:VEVENT
UID:pretix-noz-livegefluester-4904693@noz.ticketcenter.de
DTSTART;TZID=Europe/Berlin:20260505T190000
DTEND;TZID=Europe/Berlin:20260505T235959
DESCRIPTION:Tickets: https://noz.ticketcenter.de/livegefluester/4904693/\nE
 inlass: 05.05.2026 18:00\nVeranstalter: Neue Osnabrücker Zeitung GmbH & C
 o. KG
DTSTAMP:20260423T233606Z
LOCATION:LAGERHALLE e. V.\, Rolandsmauer 26\, 49074 Osnabrück
SUMMARY:Brückengeflüster Live-Podcast - Fußballtalk zum Miterleben
END:VEVENT
BEGIN:VEVENT
UID:pretix-noz-grasbahnrennen26-4891879@noz.ticketcenter.de
DTSTART;TZID=Europe/Berlin:20260613T100000
DTEND;TZID=Europe/Berlin:20260613T110000
DESCRIPTION:Tickets: https://noz.ticketcenter.de/grasbahnrennen26/4891879/\
 nEinlass: 13.06.2026 08:00\nVeranstalter: Neue Osnabrücker Zeitung GmbH &
  Co. KG
DTSTAMP:20260423T233606Z
LOCATION:An der Rennbahn\, 49084 Osnabrück
SUMMARY:68. Osnabrücker Grasbahnrennen - Samstag
END:VEVENT
BEGIN:VEVENT
UID:pretix-noz-grasbahnrennen26-4891891@noz.ticketcenter.de
DTSTART;TZID=Europe/Berlin:20260614T100000
DTEND;TZID=Europe/Berlin:20260614T110000
DESCRIPTION:Tickets: https://noz.ticketcenter.de/grasbahnrennen26/4891891/\
 nEinlass: 14.06.2026 08:00\nVeranstalter: Neue Osnabrücker Zeitung GmbH &
  Co. KG
DTSTAMP:20260423T233606Z
LOCATION:An der Rennbahn\, 49084 Osnabrück
SUMMARY:68. Osnabrücker Grasbahnrennen - Sonntag
END:VEVENT
BEGIN:VEVENT
UID:pretix-noz-rdrontour-4889128@noz.ticketcenter.de
DTSTART;TZID=Europe/Berlin:20260623T180000
DTEND;TZID=Europe/Berlin:20260623T190000
DESCRIPTION:Tickets: https://noz.ticketcenter.de/rdrontour/4889128/\nEinlas
 s: 23.06.2026 18:00\nVeranstalter: Neue Osnabrücker Zeitung GmbH & Co. KG
DTSTAMP:20260423T233606Z
LOCATION:Die Norder Mennonitenkirche\, Am Markt 17\, 26506 Norden
SUMMARY:„Rest der Republik" on Tour in Norden
END:VEVENT
BEGIN:VEVENT
UID:pretix-noz-rdrontour-4889129@noz.ticketcenter.de
DTSTART;TZID=Europe/Berlin:20260624T180000
DTEND;TZID=Europe/Berlin:20260624T190000
DESCRIPTION:Tickets: https://noz.ticketcenter.de/rdrontour/4889129/\nEinlas
 s: 24.06.2026 18:00\nVeranstalter: Neue Osnabrücker Zeitung GmbH & Co. KG
DTSTAMP:20260423T233606Z
LOCATION:Katharina-von-Bora-Haus\, Am Alten Kirchhof 4\,\, 24534 Neumünste
 r
SUMMARY:„Rest der Republik" on Tour in Neumünster
END:VEVENT
BEGIN:VEVENT
UID:pretix-noz-rdrontour-4889130@noz.ticketcenter.de
DTSTART;TZID=Europe/Berlin:20260625T180000
DTEND;TZID=Europe/Berlin:20260625T190000
DESCRIPTION:Tickets: https://noz.ticketcenter.de/rdrontour/4889130/\nEinlas
 s: 25.06.2026 18:00\nVeranstalter: Neue Osnabrücker Zeitung GmbH & Co. KG
DTSTAMP:20260423T233606Z
LOCATION:Hotel Rungholt\, Kurhausstraße 35\, 25999 Kampen (Sylt)
SUMMARY:„Rest der Republik" on Tour auf Sylt
END:VEVENT
BEGIN:VEVENT
UID:pretix-noz-rdrontour-4905528@noz.ticketcenter.de
DTSTART;TZID=Europe/Berlin:20260626T180000
DTEND;TZID=Europe/Berlin:20260626T190000
DESCRIPTION:Tickets: https://noz.ticketcenter.de/rdrontour/4905528/\nEinlas
 s: 26.06.2026 18:00\nVeranstalter: Neue Osnabrücker Zeitung GmbH & Co. KG
DTSTAMP:20260423T233606Z
LOCATION:Das James Hotel\, Fördepromenade 30\, 24944 Flensburg
SUMMARY:„Rest der Republik" on Tour in Flensburg
END:VEVENT
BEGIN:VEVENT
UID:pretix-noz-rdrontour-4889131@noz.ticketcenter.de
DTSTART;TZID=Europe/Berlin:20260629T180000
DTEND;TZID=Europe/Berlin:20260629T190000
DESCRIPTION:Tickets: https://noz.ticketcenter.de/rdrontour/4889131/\nEinlas
 s: 29.06.2026 18:00\nVeranstalter: Neue Osnabrücker Zeitung GmbH & Co. KG
DTSTAMP:20260423T233606Z
LOCATION:Lingener Tagespost\, Bernd-Rosemeyer-Straße 9\, 49808 Lingen
SUMMARY:„Rest der Republik" on Tour in Lingen
END:VEVENT
BEGIN:VEVENT
UID:pretix-noz-rdrontour-4889132@noz.ticketcenter.de
DTSTART;TZID=Europe/Berlin:20260630T170000
DTEND;TZID=Europe/Berlin:20260630T180000
DESCRIPTION:Tickets: https://noz.ticketcenter.de/rdrontour/4889132/\nEinlas
 s: 30.06.2026 17:00\nVeranstalter: Neue Osnabrücker Zeitung GmbH & Co. KG
DTSTAMP:20260423T233606Z
LOCATION:„Die Schelenburg“\, Alt-Schledehausener-Straße\, 49143 Bissendorf
SUMMARY:„Rest der Republik" on Tour in Bissendorf
END:VEVENT
BEGIN:VEVENT
UID:pretix-noz-alteliebe2026-4830507@noz.ticketcenter.de
DTSTART;TZID=Europe/Berlin:20260929T200000
DTEND;TZID=Europe/Berlin:20260929T210000
DESCRIPTION:Tickets: https://noz.ticketcenter.de/alteliebe2026/4830507/\nEi
 nlass: 29.09.2026 19:00\nVeranstalter: Neue Osnabrücker Zeitung GmbH & Co
 . KG
DTSTAMP:20260423T233606Z
LOCATION:NOZ Medienzentrum\, Breiter Gang 10-16\, 49074 Osnabrück
SUMMARY:"Alte Liebe" - Lesung mit Mariele Millowitsch und Walter Sittler
END:VEVENT
BEGIN:VEVENT
UID:pretix-noz-alteliebe2026-4830508@noz.ticketcenter.de
DTSTART;TZID=Europe/Berlin:20260930T200000
DTEND;TZID=Europe/Berlin:20260930T210000
DESCRIPTION:Tickets: https://noz.ticketcenter.de/alteliebe2026/4830508/\nEi
 nlass: 30.09.2026 19:00\nVeranstalter: Neue Osnabrücker Zeitung GmbH & Co
 . KG
DTSTAMP:20260423T233606Z
LOCATION:NOZ Medienzentrum\, Breiter Gang 10-16\, 49074 Osnabrück
SUMMARY:"Alte Liebe" - Lesung mit Mariele Millowitsch und Walter Sittler
END:VEVENT
BEGIN:VEVENT
UID:pretix-noz-horizonte26-27-4925555@noz.ticketcenter.de
DTSTART;TZID=Europe/Berlin:20261006T170000
DTEND;TZID=Europe/Berlin:20261006T180000
DESCRIPTION:Tickets: https://noz.ticketcenter.de/horizonte26-27/4925555/\nE
 inlass: 06.10.2026 16:30\nVeranstalter: Neue Osnabrücker Zeitung GmbH & C
 o. KG
DTSTAMP:20260423T233606Z
LOCATION:Cinema-Arthouse\, Erich-Maria-Remarque-Ring 16\, 49074 Osnabrück
SUMMARY:noz Horizonte - Abokarte Saison 2025/2026/ 17 Uhr
END:VEVENT
BEGIN:VEVENT
UID:pretix-noz-horizonte26-27-4925559@noz.ticketcenter.de
DTSTART;TZID=Europe/Berlin:20261006T170000
DTEND;TZID=Europe/Berlin:20261006T180000
DESCRIPTION:Tickets: https://noz.ticketcenter.de/horizonte26-27/4925559/\nE
 inlass: 06.10.2026 16:30\nVeranstalter: Neue Osnabrücker Zeitung GmbH & C
 o. KG
DTSTAMP:20260423T233606Z
LOCATION:Cinema-Arthouse\, Erich-Maria-Remarque-Ring 16\, 49074 Osnabrück
SUMMARY:Abenteuer Japan & Korea
END:VEVENT
BEGIN:VEVENT
UID:pretix-noz-horizonte26-27-4925560@noz.ticketcenter.de
DTSTART;TZID=Europe/Berlin:20261006T200000
DTEND;TZID=Europe/Berlin:20261006T210000
DESCRIPTION:Tickets: https://noz.ticketcenter.de/horizonte26-27/4925560/\nE
 inlass: 06.10.2026 19:30\nVeranstalter: Neue Osnabrücker Zeitung GmbH & C
 o. KG
DTSTAMP:20260423T233606Z
LOCATION:Cinema-Arthouse\, Erich-Maria-Remarque-Ring 16\, 49074 Osnabrück
SUMMARY:Abenteuer Japan & Korea
END:VEVENT
BEGIN:VEVENT
UID:pretix-noz-horizonte26-27-4925556@noz.ticketcenter.de
DTSTART;TZID=Europe/Berlin:20261006T200000
DTEND;TZID=Europe/Berlin:20261006T210000
DESCRIPTION:Tickets: https://noz.ticketcenter.de/horizonte26-27/4925556/\nE
 inlass: 06.10.2026 19:30\nVeranstalter: Neue Osnabrücker Zeitung GmbH & C
 o. KG
DTSTAMP:20260423T233606Z
LOCATION:Cinema-Arthouse\, Erich-Maria-Remarque-Ring 16\, 49074 Osnabrück
SUMMARY:noz Horizonte - Abokarte Saison 2025/2026/ 20 Uhr
END:VEVENT
BEGIN:VEVENT
UID:pretix-noz-horizonte26-27-4925561@noz.ticketcenter.de
DTSTART;TZID=Europe/Berlin:20261103T170000
DTEND;TZID=Europe/Berlin:20261103T180000
DESCRIPTION:Tickets: https://noz.ticketcenter.de/horizonte26-27/4925561/\nE
 inlass: 03.11.2026 16:30\nVeranstalter: Neue Osnabrücker Zeitung GmbH & C
 o. KG
DTSTAMP:20260423T233606Z
LOCATION:Cinema-Arthouse\, Erich-Maria-Remarque-Ring 16\, 49074 Osnabrück
SUMMARY:Marokko - farbig\, faszinierend\, orientalisch
END:VEVENT
BEGIN:VEVENT
UID:pretix-noz-horizonte26-27-4925564@noz.ticketcenter.de
DTSTART;TZID=Europe/Berlin:20261103T200000
DTEND;TZID=Europe/Berlin:20261103T210000
DESCRIPTION:Tickets: https://noz.ticketcenter.de/horizonte26-27/4925564/\nE
 inlass: 03.11.2026 19:30\nVeranstalter: Neue Osnabrücker Zeitung GmbH & C
 o. KG
DTSTAMP:20260423T233606Z
LOCATION:Cinema-Arthouse\, Erich-Maria-Remarque-Ring 16\, 49074 Osnabrück
SUMMARY:Marokko - farbig\, faszinierend\, orientalisch
END:VEVENT
BEGIN:VEVENT
UID:pretix-noz-horizonte26-27-4925565@noz.ticketcenter.de
DTSTART;TZID=Europe/Berlin:20261201T170000
DTEND;TZID=Europe/Berlin:20261201T180000
DESCRIPTION:Tickets: https://noz.ticketcenter.de/horizonte26-27/4925565/\nE
 inlass: 01.12.2026 16:30\nVeranstalter: Neue Osnabrücker Zeitung GmbH & C
 o. KG
DTSTAMP:20260423T233606Z
LOCATION:Cinema-Arthouse\, Erich-Maria-Remarque-Ring 16\, 49074 Osnabrück
SUMMARY:Magisches Indien
END:VEVENT
BEGIN:VEVENT
UID:pretix-noz-horizonte26-27-4925566@noz.ticketcenter.de
DTSTART;TZID=Europe/Berlin:20261201T200000
DTEND;TZID=Europe/Berlin:20261201T210000
DESCRIPTION:Tickets: https://noz.ticketcenter.de/horizonte26-27/4925566/\nE
 inlass: 01.12.2026 19:30\nVeranstalter: Neue Osnabrücker Zeitung GmbH & C
 o. KG
DTSTAMP:20260423T233606Z
LOCATION:Cinema-Arthouse\, Erich-Maria-Remarque-Ring 16\, 49074 Osnabrück
SUMMARY:Magisches Indien
END:VEVENT
BEGIN:VEVENT
UID:pretix-noz-horizonte26-27-4925567@noz.ticketcenter.de
DTSTART;TZID=Europe/Berlin:20270105T170000
DTEND;TZID=Europe/Berlin:20270105T180000
DESCRIPTION:Tickets: https://noz.ticketcenter.de/horizonte26-27/4925567/\nE
 inlass: 05.01.2027 16:30\nVeranstalter: Neue Osnabrücker Zeitung GmbH & C
 o. KG
DTSTAMP:20260423T233606Z
LOCATION:Cinema-Arthouse\, Erich-Maria-Remarque-Ring 16\, 49074 Osnabrück
SUMMARY:Patagonien - 3.000 km bis nach Feuerland
END:VEVENT
BEGIN:VEVENT
UID:pretix-noz-horizonte26-27-4925568@noz.ticketcenter.de
DTSTART;TZID=Europe/Berlin:20270105T200000
DTEND;TZID=Europe/Berlin:20270105T210000
DESCRIPTION:Tickets: https://noz.ticketcenter.de/horizonte26-27/4925568/\nE
 inlass: 05.01.2027 19:30\nVeranstalter: Neue Osnabrücker Zeitung GmbH & C
 o. KG
DTSTAMP:20260423T233606Z
LOCATION:Cinema-Arthouse\, Erich-Maria-Remarque-Ring 16\, 49074 Osnabrück
SUMMARY:Patagonien - 3.000 km bis nach Feuerland
END:VEVENT
BEGIN:VEVENT
UID:pretix-noz-horizonte26-27-4925570@noz.ticketcenter.de
DTSTART;TZID=Europe/Berlin:20270202T170000
DTEND;TZID=Europe/Berlin:20270202T180000
DESCRIPTION:Tickets: https://noz.ticketcenter.de/horizonte26-27/4925570/\nE
 inlass: 02.02.2027 16:30\nVeranstalter: Neue Osnabrücker Zeitung GmbH & C
 o. KG
DTSTAMP:20260423T233606Z
LOCATION:Cinema-Arthouse\, Erich-Maria-Remarque-Ring 16\, 49074 Osnabrück
SUMMARY:Europas Hoher Norden - Reiseabenteuer am Polarkreis
END:VEVENT
BEGIN:VEVENT
UID:pretix-noz-horizonte26-27-4925571@noz.ticketcenter.de
DTSTART;TZID=Europe/Berlin:20270202T200000
DTEND;TZID=Europe/Berlin:20270202T210000
DESCRIPTION:Tickets: https://noz.ticketcenter.de/horizonte26-27/4925571/\nE
 inlass: 02.02.2027 19:30\nVeranstalter: Neue Osnabrücker Zeitung GmbH & C
 o. KG
DTSTAMP:20260423T233606Z
LOCATION:Cinema-Arthouse\, Erich-Maria-Remarque-Ring 16\, 49074 Osnabrück
SUMMARY:Europas Hoher Norden - Reiseabenteuer am Polarkreis
END:VEVENT
BEGIN:VEVENT
UID:pretix-noz-horizonte26-27-4925573@noz.ticketcenter.de
DTSTART;TZID=Europe/Berlin:20270302T170000
DTEND;TZID=Europe/Berlin:20270302T180000
DESCRIPTION:Tickets: https://noz.ticketcenter.de/horizonte26-27/4925573/\nE
 inlass: 02.03.2027 16:30\nVeranstalter: Neue Osnabrücker Zeitung GmbH & C
 o. KG
DTSTAMP:20260423T233606Z
LOCATION:Cinema-Arthouse\, Erich-Maria-Remarque-Ring 16\, 49074 Osnabrück
SUMMARY:Ein Esel zum Pferdestehlen
END:VEVENT
BEGIN:VEVENT
UID:pretix-noz-horizonte26-27-4925572@noz.ticketcenter.de
DTSTART;TZID=Europe/Berlin:20270302T200000
DTEND;TZID=Europe/Berlin:20270302T210000
DESCRIPTION:Tickets: https://noz.ticketcenter.de/horizonte26-27/4925572/\nE
 inlass: 02.03.2027 19:30\nVeranstalter: Neue Osnabrücker Zeitung GmbH & C
 o. KG
DTSTAMP:20260423T233606Z
LOCATION:Cinema-Arthouse\, Erich-Maria-Remarque-Ring 16\, 49074 Osnabrück
SUMMARY:Ein Esel zum Pferdestehlen
END:VEVENT
END:VCALENDAR
