BEGIN:VCALENDAR
VERSION:2.0
PRODID:-//pretix//pretix.eu//
BEGIN:VTIMEZONE
TZID:Europe/Berlin
BEGIN:STANDARD
DTSTART:20001029T040000
RRULE:FREQ=YEARLY;BYDAY=-1SU;BYMONTH=10
TZNAME:CET
TZOFFSETFROM:+0200
TZOFFSETTO:+0100
END:STANDARD
BEGIN:DAYLIGHT
DTSTART:20000326T030000
RRULE:FREQ=YEARLY;BYDAY=-1SU;BYMONTH=3
TZNAME:CEST
TZOFFSETFROM:+0100
TZOFFSETTO:+0200
END:DAYLIGHT
END:VTIMEZONE
BEGIN:VEVENT
UID:pretix-noz-gesundheit-2-0@noz.ticketcenter.de
DTSTART;TZID=Europe/Berlin:20220608T180000
DTEND;TZID=Europe/Berlin:20220608T190000
DESCRIPTION:Tickets: https://noz.ticketcenter.de/gesundheit-2/\nVeranstalte
 r: Neue Osnabrücker Zeitung GmbH & Co. KG
DTSTAMP:20260424T045413Z
LOCATION:NOZ Medienzentrum\, Breiter Gang 10-16\, 49074 Osnabrück
SUMMARY:„Gesundheit im Gespräch“ - Gefäßmedizinische Krankheitsbilde
 r nach COVID-19
END:VEVENT
END:VCALENDAR
