BEGIN:VCALENDAR
VERSION:2.0
PRODID:-//pretix//pretix.eu//
BEGIN:VTIMEZONE
TZID:Europe/Berlin
BEGIN:STANDARD
DTSTART:20001029T040000
RRULE:FREQ=YEARLY;BYDAY=-1SU;BYMONTH=10
TZNAME:CET
TZOFFSETFROM:+0200
TZOFFSETTO:+0100
END:STANDARD
BEGIN:DAYLIGHT
DTSTART:20000326T030000
RRULE:FREQ=YEARLY;BYDAY=-1SU;BYMONTH=3
TZNAME:CEST
TZOFFSETFROM:+0100
TZOFFSETTO:+0200
END:DAYLIGHT
END:VTIMEZONE
BEGIN:VEVENT
UID:pretix-noz-horizonte26-27-4925567@noz.ticketcenter.de
DTSTART;TZID=Europe/Berlin:20270105T170000
DTEND;TZID=Europe/Berlin:20270105T180000
DESCRIPTION:Tickets: https://noz.ticketcenter.de/horizonte26-27/4925567/\nE
 inlass: 05.01.2027 16:30\nVeranstalter: Neue Osnabrücker Zeitung GmbH & C
 o. KG
DTSTAMP:20260424T043659Z
LOCATION:Cinema-Arthouse\, Erich-Maria-Remarque-Ring 16\, 49074 Osnabrück
SUMMARY:Patagonien - 3.000 km bis nach Feuerland
END:VEVENT
END:VCALENDAR
