BEGIN:VCALENDAR
VERSION:2.0
PRODID:-//pretix//pretix.eu//
BEGIN:VTIMEZONE
TZID:Europe/Berlin
BEGIN:STANDARD
DTSTART:20001029T040000
RRULE:FREQ=YEARLY;BYDAY=-1SU;BYMONTH=10
TZNAME:CET
TZOFFSETFROM:+0200
TZOFFSETTO:+0100
END:STANDARD
BEGIN:DAYLIGHT
DTSTART:20000326T030000
RRULE:FREQ=YEARLY;BYDAY=-1SU;BYMONTH=3
TZNAME:CEST
TZOFFSETFROM:+0100
TZOFFSETTO:+0200
END:DAYLIGHT
END:VTIMEZONE
BEGIN:VEVENT
UID:pretix-noz-rdrontour-4889128@noz.ticketcenter.de
DTSTART;TZID=Europe/Berlin:20260623T180000
DTEND;TZID=Europe/Berlin:20260623T190000
DESCRIPTION:Tickets: https://noz.ticketcenter.de/rdrontour/4889128/\nEinlas
 s: 23.06.2026 18:00\nVeranstalter: Neue Osnabrücker Zeitung GmbH & Co. KG
DTSTAMP:20260424T044233Z
LOCATION:Die Norder Mennonitenkirche\, Am Markt 17\, 26506 Norden
SUMMARY:„Rest der Republik" on Tour in Norden
END:VEVENT
END:VCALENDAR
