BEGIN:VCALENDAR
VERSION:2.0
PRODID:-//pretix//pretix.eu//
BEGIN:VTIMEZONE
TZID:Europe/Berlin
BEGIN:STANDARD
DTSTART:20001029T040000
RRULE:FREQ=YEARLY;BYDAY=-1SU;BYMONTH=10
TZNAME:CET
TZOFFSETFROM:+0200
TZOFFSETTO:+0100
END:STANDARD
BEGIN:DAYLIGHT
DTSTART:20000326T030000
RRULE:FREQ=YEARLY;BYDAY=-1SU;BYMONTH=3
TZNAME:CEST
TZOFFSETFROM:+0100
TZOFFSETTO:+0200
END:DAYLIGHT
END:VTIMEZONE
BEGIN:VEVENT
UID:pretix-noz-rdrontour-4889129@noz.ticketcenter.de
DTSTART;TZID=Europe/Berlin:20260624T180000
DTEND;TZID=Europe/Berlin:20260624T190000
DESCRIPTION:Tickets: https://noz.ticketcenter.de/rdrontour/4889129/\nEinlas
 s: 24.06.2026 18:00\nVeranstalter: Neue Osnabrücker Zeitung GmbH & Co. KG
DTSTAMP:20260424T062855Z
LOCATION:Katharina-von-Bora-Haus\, Am Alten Kirchhof 4\,\, 24534 Neumünste
 r
SUMMARY:„Rest der Republik" on Tour in Neumünster
END:VEVENT
END:VCALENDAR
