BEGIN:VCALENDAR
VERSION:2.0
PRODID:-//pretix//pretix.eu//
BEGIN:VTIMEZONE
TZID:Europe/Berlin
BEGIN:STANDARD
DTSTART:20001029T040000
RRULE:FREQ=YEARLY;BYDAY=-1SU;BYMONTH=10
TZNAME:CET
TZOFFSETFROM:+0200
TZOFFSETTO:+0100
END:STANDARD
BEGIN:DAYLIGHT
DTSTART:20000326T030000
RRULE:FREQ=YEARLY;BYDAY=-1SU;BYMONTH=3
TZNAME:CEST
TZOFFSETFROM:+0100
TZOFFSETTO:+0200
END:DAYLIGHT
END:VTIMEZONE
BEGIN:VEVENT
UID:pretix-noz-uniball-26-0@noz.ticketcenter.de
DTSTART;TZID=Europe/Berlin:20260605T193000
DTEND;TZID=Europe/Berlin:20260605T203000
DESCRIPTION:Tickets: https://noz.ticketcenter.de/uniball-26/\nEinlass: 05.0
 6.2026 19:30\nVeranstalter: Neue Osnabrücker Zeitung GmbH & Co. KG
DTSTAMP:20260424T030300Z
LOCATION:OsnabrückHalle\, Schlosswall 1-9\, 49074 Osnabrück
SUMMARY:Ball der Universität 2026
END:VEVENT
END:VCALENDAR
